{ "currentVersion": 10.91, "serviceDescription": "
High Point Planning Area hillshade raster for elevation analysis.<\/span><\/p><\/div><\/div><\/div>",
"name": "Imagery/Hillshade2023",
"description": " High Point Planning Area hillshade raster for elevation analysis.<\/span><\/p><\/div><\/div><\/div>",
"extent": {
"xmin": 1667499.2210068337,
"ymin": 779999.2164993744,
"xmax": 1745000.8210068338,
"ymax": 860000.0164993744,
"spatialReference": {
"wkid": 102719,
"latestWkid": 2264
}
},
"initialExtent": {
"xmin": 1667499.2210068337,
"ymin": 779999.2164993744,
"xmax": 1745000.8210068338,
"ymax": 860000.0164993744,
"spatialReference": {
"wkid": 102719,
"latestWkid": 2264
}
},
"fullExtent": {
"xmin": 1667499.2210068337,
"ymin": 779999.2164993744,
"xmax": 1745000.8210068338,
"ymax": 860000.0164993744,
"spatialReference": {
"wkid": 102719,
"latestWkid": 2264
}
},
"hasMultidimensions": false,
"pixelSizeX": 2.200000000000003,
"pixelSizeY": 2.200000000000001,
"datasetFormat": "FGDBR",
"uncompressedSize": 1281030992,
"blockWidth": 128,
"blockHeight": 128,
"compressionType": "LZ77",
"bandNames": [
"Band_1"
],
"allowCopy": true,
"allowAnalysis": true,
"bandCount": 1,
"pixelType": "U8",
"minPixelSize": 0,
"maxPixelSize": 0,
"copyrightText": "High Point Planning & Development",
"serviceDataType": "esriImageServiceDataTypeGeneric",
"serviceSourceType": "esriImageServiceSourceTypeDataset",
"minValues": [
0
],
"maxValues": [
254
],
"meanValues": [
177.6569322598737
],
"stdvValues": [
18.940000231071696
],
"objectIdField": "",
"fields": [],
"capabilities": "Mensuration,Image,Metadata",
"defaultMosaicMethod": "Center",
"allowedMosaicMethods": "",
"sortField": "",
"sortValue": null,
"sortAscending": true,
"mosaicOperator": "First",
"defaultCompressionQuality": 75,
"defaultResamplingMethod": "Bilinear",
"maxImageHeight": 4100,
"maxImageWidth": 15000,
"allowRasterFunction": true,
"rasterFunctionInfos": [
{
"name": "None",
"description": "",
"help": ""
}
],
"rasterTypeInfos": [
{
"name": "Raster Dataset",
"description": "Supports all ArcGIS Raster Datasets",
"help": ""
}
],
"mensurationCapabilities": "Basic",
"hasHistograms": true,
"hasColormap": false,
"hasRasterAttributeTable": true,
"minScale": 0,
"maxScale": 0,
"exportTilesAllowed": false,
"supportsStatistics": false,
"supportsAdvancedQueries": false,
"editFieldsInfo": null,
"ownershipBasedAccessControlForRasters": null,
"allowComputeTiePoints": false,
"useStandardizedQueries": true,
"advancedQueryCapabilities": {
"useStandardizedQueries": true,
"supportsStatistics": false,
"supportsOrderBy": false,
"supportsDistinct": false,
"supportsPagination": false
},
"spatialReference": {
"wkid": 102719,
"latestWkid": 2264
}
}