View In:
ArcGIS JavaScript
ArcGIS Online Map Viewer
ArcGIS Earth
ArcMap
View Footprint In:
ArcGIS Online Map Viewer
Service Description: High Point Planning Area hillshade raster for elevation analysis.
Name: Imagery/Hillshade2023
Description: High Point Planning Area hillshade raster for elevation analysis.
Single Fused Map Cache: false
Extent:
XMin: 1667499.2210068337
YMin: 779999.2164993744
XMax: 1745000.8210068338
YMax: 860000.0164993744
Spatial Reference: 102719
(2264)
LatestVCSWkid(0)
Initial Extent:
XMin: 1667499.2210068337
YMin: 779999.2164993744
XMax: 1745000.8210068338
YMax: 860000.0164993744
Spatial Reference: 102719
(2264)
LatestVCSWkid(0)
Full Extent:
XMin: 1667499.2210068337
YMin: 779999.2164993744
XMax: 1745000.8210068338
YMax: 860000.0164993744
Spatial Reference: 102719
(2264)
LatestVCSWkid(0)
Pixel Size X: 2.200000000000003
Pixel Size Y: 2.200000000000001
Band Count: 1
Pixel Type: U8
RasterFunction Infos: {"rasterFunctionInfos": [{
"name": "None",
"description": "",
"help": ""
}]}
Mensuration Capabilities: Basic
Has Histograms: true
Has Colormap: false
Has Multi Dimensions : false
Rendering Rule:
Min Scale: 0
Max Scale: 0
Copyright Text: High Point Planning & Development
Service Data Type: esriImageServiceDataTypeGeneric
Min Values: 0
Max Values: 254
Mean Values: 177.6569322598737
Standard Deviation Values: 18.940000231071696
Object ID Field:
Fields:
None
Default Mosaic Method: Center
Allowed Mosaic Methods:
SortField:
SortValue: null
Mosaic Operator: First
Default Compression Quality: 75
Default Resampling Method: Bilinear
Max Record Count: null
Max Image Height: 4100
Max Image Width: 15000
Max Download Image Count: null
Max Mosaic Image Count: null
Allow Raster Function: true
Allow Copy: true
Allow Analysis: true
Allow Compute TiePoints: false
Supports Statistics: false
Supports Advanced Queries: false
Use StandardizedQueries: true
Raster Type Infos:
Name: Raster Dataset
Description: Supports all ArcGIS Raster Datasets
Help:
Has Raster Attribute Table: true
Edit Fields Info: null
Ownership Based AccessControl For Rasters: null
Child Resources:
Info
Raster Attribute Table
Histograms
Statistics
Key Properties
Legend
Raster Function Infos
Supported Operations:
Export Image
Identify
Measure
Compute Histograms
Compute Statistics Histograms
Get Samples
Compute Class Statistics
Query Boundary
Compute Pixel Location
Compute Angles
Validate
Project